BEGIN:VCALENDAR
VERSION:2.0
PRODID:-//Uniware2025 - ECPv6.15.18//NONSGML v1.0//EN
CALSCALE:GREGORIAN
METHOD:PUBLISH
X-ORIGINAL-URL:https://www.uniware.net
X-WR-CALDESC:Events for Uniware2025
REFRESH-INTERVAL;VALUE=DURATION:PT1H
X-Robots-Tag:noindex
X-PUBLISHED-TTL:PT1H
BEGIN:VTIMEZONE
TZID:UTC
BEGIN:STANDARD
TZOFFSETFROM:+0000
TZOFFSETTO:+0000
TZNAME:UTC
DTSTART:20220101T000000
END:STANDARD
END:VTIMEZONE
BEGIN:VEVENT
DTSTART;TZID=UTC:20231215T104000
DTEND;TZID=UTC:20251215T133000
DTSTAMP:20260421T101921
CREATED:20251110T055636Z
LAST-MODIFIED:20251110T061011Z
UID:2554-1702636800-1765805400@www.uniware.net
SUMMARY:Securing Cloud with Fortinet
DESCRIPTION:
URL:https://www.uniware.net/event/securing-cloud-with-fortinet/
LOCATION:Fortinet Technologies India Pvt Ltd.\, Guindy\, Chennai\, Fortinet Technologies India Pvt Ltd.\, Guindy\, Chennai\, Chennai\, Tamil Nadu\, India
ATTACH;FMTTYPE=image/webp:https://www.uniware.net/wp-content/uploads/2025/11/security-2-scaled-1.webp
END:VEVENT
BEGIN:VEVENT
DTSTART;TZID=UTC:20231214T183000
DTEND;TZID=UTC:20251214T213000
DTSTAMP:20260421T101921
CREATED:20251110T060115Z
LAST-MODIFIED:20251110T061049Z
UID:2557-1702578600-1765747800@www.uniware.net
SUMMARY:Trends in AWS Cloud Technologies
DESCRIPTION:
URL:https://www.uniware.net/event/trends-in-aws-cloud-technologies/
LOCATION:Quality Sabari Inn\, T. Nagar\, Chennai\, Quality Sabari Inn\, T. Nagar\, Chennai\, Chennai\, Tamil Nadu\, India
ATTACH;FMTTYPE=image/png:https://www.uniware.net/wp-content/uploads/2025/11/tally-erp.png
END:VEVENT
BEGIN:VEVENT
DTSTART;TZID=UTC:20231006T183000
DTEND;TZID=UTC:20231006T213000
DTSTAMP:20260421T101921
CREATED:20251110T060339Z
LAST-MODIFIED:20251110T061311Z
UID:2559-1696617000-1696627800@www.uniware.net
SUMMARY:Unlock The Potential of Generative AI
DESCRIPTION:
URL:https://www.uniware.net/event/unlock-the-potential-of-generative-ai/
LOCATION:Hotel Raintree\, St Mary Road\, Chennai\, Hotel Raintree\, St Mary Road\, Chennai\, Tamil Nadu\, India
ATTACH;FMTTYPE=image/webp:https://www.uniware.net/wp-content/uploads/2025/11/siem.webp
END:VEVENT
BEGIN:VEVENT
DTSTART;TZID=UTC:20230417T110000
DTEND;TZID=UTC:20230417T140000
DTSTAMP:20260421T101921
CREATED:20251110T060558Z
LAST-MODIFIED:20251110T093559Z
UID:2561-1681729200-1681740000@www.uniware.net
SUMMARY:AWS Native Security and Trendmicro Cloud Security Service
DESCRIPTION:
URL:https://www.uniware.net/event/aws-native-security-and-trendmicro-cloud-security-service/
LOCATION:Global Infocity\, Perungudi\, Chennai\, Global Infocity\, Perungudi\, Chennai\, Chennai\, Tamil Nadu\, India
ATTACH;FMTTYPE=image/webp:https://www.uniware.net/wp-content/uploads/2025/11/back3.webp
END:VEVENT
BEGIN:VEVENT
DTSTART;TZID=UTC:20230323T170000
DTEND;TZID=UTC:20230323T213000
DTSTAMP:20260421T101921
CREATED:20251110T060740Z
LAST-MODIFIED:20251110T093720Z
UID:2563-1679590800-1679607000@www.uniware.net
SUMMARY:SMB LEADERS STUDIO
DESCRIPTION:
URL:https://www.uniware.net/event/smb-leaders-studio/
LOCATION:Westin Hotel\, Velacherry\, Chennai\, Westin Hotel\, Velacherry\,\, Chennai\, Tamil Nadu\, India
ATTACH;FMTTYPE=image/webp:https://www.uniware.net/wp-content/uploads/2025/11/pexels-proxyclick-visitor-management-system-2451646-1.webp
END:VEVENT
BEGIN:VEVENT
DTSTART;TZID=UTC:20230228T100000
DTEND;TZID=UTC:20230228T143000
DTSTAMP:20260421T101921
CREATED:20251110T060918Z
LAST-MODIFIED:20251110T094158Z
UID:2565-1677578400-1677594600@www.uniware.net
SUMMARY:CLOUD CONNECT 2023
DESCRIPTION:
URL:https://www.uniware.net/event/cloud-connect-2023/
LOCATION:The Leela Palace\, MRC Nagar\, Chennai\, The Leela Palace\, MRC Nagar\,\, Chennai\, Tamil Nadu\, India
ATTACH;FMTTYPE=image/webp:https://www.uniware.net/wp-content/uploads/2025/11/saas1-1.webp
END:VEVENT
END:VCALENDAR